BEGIN:VCALENDAR
VERSION:2.0
PRODID:-//Mosaic - ECPv6.15.20//NONSGML v1.0//EN
CALSCALE:GREGORIAN
METHOD:PUBLISH
X-WR-CALNAME:Mosaic
X-ORIGINAL-URL:https://dev-a.hopebeyondmeasure.org
X-WR-CALDESC:Events for Mosaic
REFRESH-INTERVAL;VALUE=DURATION:PT1H
X-Robots-Tag:noindex
X-PUBLISHED-TTL:PT1H
BEGIN:VTIMEZONE
TZID:America/Chicago
BEGIN:DAYLIGHT
TZOFFSETFROM:-0600
TZOFFSETTO:-0500
TZNAME:CDT
DTSTART:20180311T080000
END:DAYLIGHT
BEGIN:STANDARD
TZOFFSETFROM:-0500
TZOFFSETTO:-0600
TZNAME:CST
DTSTART:20181104T070000
END:STANDARD
BEGIN:DAYLIGHT
TZOFFSETFROM:-0600
TZOFFSETTO:-0500
TZNAME:CDT
DTSTART:20190310T080000
END:DAYLIGHT
BEGIN:STANDARD
TZOFFSETFROM:-0500
TZOFFSETTO:-0600
TZNAME:CST
DTSTART:20191103T070000
END:STANDARD
BEGIN:DAYLIGHT
TZOFFSETFROM:-0600
TZOFFSETTO:-0500
TZNAME:CDT
DTSTART:20200308T080000
END:DAYLIGHT
BEGIN:STANDARD
TZOFFSETFROM:-0500
TZOFFSETTO:-0600
TZNAME:CST
DTSTART:20201101T070000
END:STANDARD
END:VTIMEZONE
BEGIN:VEVENT
DTSTART;TZID=America/Chicago:20190611T080000
DTEND;TZID=America/Chicago:20190611T170000
DTSTAMP:20260420T105635
CREATED:20190524T170059Z
LAST-MODIFIED:20190604T184551Z
UID:9267-1560240000-1560272400@dev-a.hopebeyondmeasure.org
SUMMARY:Hiring Event in Winfield
DESCRIPTION:If you’d like to help people with intellectual disabilities enjoy a full life\, look no further. Mosaic is hiring in Winfield! For a limited time\, direct support associates are eligible for a $250 hiring bonus and direct support supervisors are eligible for a $1\,000 hiring bonus. \nLearn more here or join us on June 11! \nBenefits include:\n• Three health insurance options (including a free plan for employees!)\n• Health savings accounts\n• Paid time off (accrues immediately!)\n• Tuition reimbursement\n• Flexible shift options
URL:https://dev-a.hopebeyondmeasure.org/event/hiring-event-in-winfield/
LOCATION:Mosaic in South Central Kansas\, 2120 E. 9th Ave.\, Winfield\, KS\, 67156\, United States
CATEGORIES:Job Fairs
END:VEVENT
END:VCALENDAR