BEGIN:VCALENDAR
VERSION:2.0
PRODID:-//Mosaic - ECPv6.15.20//NONSGML v1.0//EN
CALSCALE:GREGORIAN
METHOD:PUBLISH
X-ORIGINAL-URL:https://dev-a.hopebeyondmeasure.org
X-WR-CALDESC:Events for Mosaic
REFRESH-INTERVAL;VALUE=DURATION:PT1H
X-Robots-Tag:noindex
X-PUBLISHED-TTL:PT1H
BEGIN:VTIMEZONE
TZID:America/Chicago
BEGIN:DAYLIGHT
TZOFFSETFROM:-0600
TZOFFSETTO:-0500
TZNAME:CDT
DTSTART:20180311T080000
END:DAYLIGHT
BEGIN:STANDARD
TZOFFSETFROM:-0500
TZOFFSETTO:-0600
TZNAME:CST
DTSTART:20181104T070000
END:STANDARD
BEGIN:DAYLIGHT
TZOFFSETFROM:-0600
TZOFFSETTO:-0500
TZNAME:CDT
DTSTART:20190310T080000
END:DAYLIGHT
BEGIN:STANDARD
TZOFFSETFROM:-0500
TZOFFSETTO:-0600
TZNAME:CST
DTSTART:20191103T070000
END:STANDARD
BEGIN:DAYLIGHT
TZOFFSETFROM:-0600
TZOFFSETTO:-0500
TZNAME:CDT
DTSTART:20200308T080000
END:DAYLIGHT
BEGIN:STANDARD
TZOFFSETFROM:-0500
TZOFFSETTO:-0600
TZNAME:CST
DTSTART:20201101T070000
END:STANDARD
END:VTIMEZONE
BEGIN:VEVENT
DTSTART;TZID=America/Chicago:20190510T090000
DTEND;TZID=America/Chicago:20190510T160000
DTSTAMP:20260420T122440
CREATED:20190507T162727Z
LAST-MODIFIED:20190507T202449Z
UID:8157-1557478800-1557504000@dev-a.hopebeyondmeasure.org
SUMMARY:Job Fair!
DESCRIPTION:If you’d like to help people with intellectual disabilities enjoy a full life\, look no further. Mosaic in Garden City is hiring! \nJoin us at our job fair on May 10 at KANSASWORKS Garden City for on-the-spot interviews. \nBenefits include:\n• Three health insurance options (including a free plan for employees!)\n• Health savings accounts\n• Paid time off (accrues immediately!)\n• Tuition reimbursement\n• Flexible shift options \nLearn more.
URL:https://dev-a.hopebeyondmeasure.org/event/job-fair-garden-city/
LOCATION:KansasWorks – Garden City\, KS\, 107 E. Spruce St.\, Garden City\, KS\, 67846\, United States
CATEGORIES:Job Fairs
END:VEVENT
END:VCALENDAR