BEGIN:VCALENDAR
VERSION:2.0
PRODID:-//Mosaic - ECPv6.15.20//NONSGML v1.0//EN
CALSCALE:GREGORIAN
METHOD:PUBLISH
X-ORIGINAL-URL:https://dev-a.hopebeyondmeasure.org
X-WR-CALDESC:Events for Mosaic
REFRESH-INTERVAL;VALUE=DURATION:PT1H
X-Robots-Tag:noindex
X-PUBLISHED-TTL:PT1H
BEGIN:VTIMEZONE
TZID:America/Chicago
BEGIN:DAYLIGHT
TZOFFSETFROM:-0600
TZOFFSETTO:-0500
TZNAME:CDT
DTSTART:20180311T080000
END:DAYLIGHT
BEGIN:STANDARD
TZOFFSETFROM:-0500
TZOFFSETTO:-0600
TZNAME:CST
DTSTART:20181104T070000
END:STANDARD
BEGIN:DAYLIGHT
TZOFFSETFROM:-0600
TZOFFSETTO:-0500
TZNAME:CDT
DTSTART:20190310T080000
END:DAYLIGHT
BEGIN:STANDARD
TZOFFSETFROM:-0500
TZOFFSETTO:-0600
TZNAME:CST
DTSTART:20191103T070000
END:STANDARD
BEGIN:DAYLIGHT
TZOFFSETFROM:-0600
TZOFFSETTO:-0500
TZNAME:CDT
DTSTART:20200308T080000
END:DAYLIGHT
BEGIN:STANDARD
TZOFFSETFROM:-0500
TZOFFSETTO:-0600
TZNAME:CST
DTSTART:20201101T070000
END:STANDARD
END:VTIMEZONE
BEGIN:VEVENT
DTSTART;TZID=America/Chicago:20190710T120000
DTEND;TZID=America/Chicago:20190710T180000
DTSTAMP:20260420T094051
CREATED:20190614T185244Z
LAST-MODIFIED:20190614T185244Z
UID:10188-1562760000-1562781600@dev-a.hopebeyondmeasure.org
SUMMARY:Hiring Event in Kansas City
DESCRIPTION:If you’d like to help people with intellectual disabilities enjoy a full life\, look no further. Mosaic is hiring in Kansas City! For a limited time\, direct support professionals are eligible for a $500 hiring bonus. \nLearn more here or join us on July 10! \nBenefits include:\n• Three health insurance options (including a free plan for employees!)\n• Health savings accounts\n• Paid time off (accrues immediately!)\n• Tuition reimbursement\n• Flexible shift options
URL:https://dev-a.hopebeyondmeasure.org/event/hiring-event-in-kansas-city/
LOCATION:Mosaic in Northeast Kansas\, 8047 Parallel Pkwy.\, Kansas City\, KS\, 66112-2078\, United States
CATEGORIES:Job Fairs
END:VEVENT
END:VCALENDAR