BEGIN:VCALENDAR
VERSION:2.0
PRODID:-//Mosaic - ECPv6.15.20//NONSGML v1.0//EN
CALSCALE:GREGORIAN
METHOD:PUBLISH
X-WR-CALNAME:Mosaic
X-ORIGINAL-URL:https://dev-a.hopebeyondmeasure.org
X-WR-CALDESC:Events for Mosaic
REFRESH-INTERVAL;VALUE=DURATION:PT1H
X-Robots-Tag:noindex
X-PUBLISHED-TTL:PT1H
BEGIN:VTIMEZONE
TZID:America/Denver
BEGIN:DAYLIGHT
TZOFFSETFROM:-0700
TZOFFSETTO:-0600
TZNAME:MDT
DTSTART:20180311T090000
END:DAYLIGHT
BEGIN:STANDARD
TZOFFSETFROM:-0600
TZOFFSETTO:-0700
TZNAME:MST
DTSTART:20181104T080000
END:STANDARD
BEGIN:DAYLIGHT
TZOFFSETFROM:-0700
TZOFFSETTO:-0600
TZNAME:MDT
DTSTART:20190310T090000
END:DAYLIGHT
BEGIN:STANDARD
TZOFFSETFROM:-0600
TZOFFSETTO:-0700
TZNAME:MST
DTSTART:20191103T080000
END:STANDARD
BEGIN:DAYLIGHT
TZOFFSETFROM:-0700
TZOFFSETTO:-0600
TZNAME:MDT
DTSTART:20200308T090000
END:DAYLIGHT
BEGIN:STANDARD
TZOFFSETFROM:-0600
TZOFFSETTO:-0700
TZNAME:MST
DTSTART:20201101T080000
END:STANDARD
END:VTIMEZONE
BEGIN:VTIMEZONE
TZID:America/Chicago
BEGIN:DAYLIGHT
TZOFFSETFROM:-0600
TZOFFSETTO:-0500
TZNAME:CDT
DTSTART:20180311T080000
END:DAYLIGHT
BEGIN:STANDARD
TZOFFSETFROM:-0500
TZOFFSETTO:-0600
TZNAME:CST
DTSTART:20181104T070000
END:STANDARD
BEGIN:DAYLIGHT
TZOFFSETFROM:-0600
TZOFFSETTO:-0500
TZNAME:CDT
DTSTART:20190310T080000
END:DAYLIGHT
BEGIN:STANDARD
TZOFFSETFROM:-0500
TZOFFSETTO:-0600
TZNAME:CST
DTSTART:20191103T070000
END:STANDARD
BEGIN:DAYLIGHT
TZOFFSETFROM:-0600
TZOFFSETTO:-0500
TZNAME:CDT
DTSTART:20200308T080000
END:DAYLIGHT
BEGIN:STANDARD
TZOFFSETFROM:-0500
TZOFFSETTO:-0600
TZNAME:CST
DTSTART:20201101T070000
END:STANDARD
END:VTIMEZONE
BEGIN:VEVENT
DTSTART;TZID=America/Denver:20191015T080000
DTEND;TZID=America/Denver:20191112T090000
DTSTAMP:20260422T152656
CREATED:20190625T195438Z
LAST-MODIFIED:20190904T184313Z
UID:10944-1571126400-1573549200@dev-a.hopebeyondmeasure.org
SUMMARY:Partners in Possibilities - Colorado Springs
DESCRIPTION:Join us for a one-hour fundraising event and discover how you can help Mosaic further its mission of empowering people to live full and meaningful lives. To attend\, RSVP to Emily Plotkin at emily.plotkin@mosaicinfo.org.
URL:https://dev-a.hopebeyondmeasure.org/event/partners-in-possibilities-colorado-springs/
LOCATION:Pro Rodeo Hall of Fame – Colorado Springs\, CO\, 101 Pro Rodeo Dr.\, Colorado Springs\, CO\, 80919\, United States
CATEGORIES:Partners in Possibilities
END:VEVENT
BEGIN:VEVENT
DTSTART;TZID=America/Chicago:20191112T120000
DTEND;TZID=America/Chicago:20191112T130000
DTSTAMP:20260422T152656
CREATED:20190520T135853Z
LAST-MODIFIED:20190625T195121Z
UID:9015-1573560000-1573563600@dev-a.hopebeyondmeasure.org
SUMMARY:Partners in Possibilities - South Central Kansas
DESCRIPTION:Join us for a one-hour event and discover how you can help Mosaic further its mission to provide a life of possibilities for people with intellectual disabilities. For more information or to RSVP\, email Nancy Maier nancy.maier@mosaicinfo.org.
URL:https://dev-a.hopebeyondmeasure.org/event/partners-in-possibilities-north-central-kansas/
LOCATION:Brown Center\, Cowley College – Arkansas City\, KS\, 215 S. 2nd St.\, Arkansas City\, KS\, 67005\, United States
CATEGORIES:Partners in Possibilities
ATTACH;FMTTYPE=image/jpeg:https://dev-a.hopebeyondmeasure.org/wp-content/uploads/2019/05/18-josuhua-firend.jpg
END:VEVENT
BEGIN:VEVENT
DTSTART;TZID=America/Chicago:20191112T120000
DTEND;TZID=America/Chicago:20191112T130000
DTSTAMP:20260422T152656
CREATED:20190520T140130Z
LAST-MODIFIED:20190520T152829Z
UID:9018-1573560000-1573563600@dev-a.hopebeyondmeasure.org
SUMMARY:Partners in Possibilities - South Central Kansas
DESCRIPTION:Join us for a one-hour event and discover how you can help Mosaic further its mission to provide a life of possibilities for people with intellectual disabilities. For more information or to RSVP\, email Nancy Maier nancy.maier@mosaicinfo.org.
URL:https://dev-a.hopebeyondmeasure.org/event/partners-in-possibilities-south-central-kansas-2/
LOCATION:Aviator Church – Winfield\, KS\, 904 Alexander St.\, Winfield\, KS\, 67156\, United States
CATEGORIES:Partners in Possibilities
END:VEVENT
END:VCALENDAR