BEGIN:VCALENDAR
VERSION:2.0
PRODID:-//Mosaic - ECPv6.15.20//NONSGML v1.0//EN
CALSCALE:GREGORIAN
METHOD:PUBLISH
X-ORIGINAL-URL:https://dev-a.hopebeyondmeasure.org
X-WR-CALDESC:Events for Mosaic
REFRESH-INTERVAL;VALUE=DURATION:PT1H
X-Robots-Tag:noindex
X-PUBLISHED-TTL:PT1H
BEGIN:VTIMEZONE
TZID:America/Chicago
BEGIN:DAYLIGHT
TZOFFSETFROM:-0600
TZOFFSETTO:-0500
TZNAME:CDT
DTSTART:20180311T080000
END:DAYLIGHT
BEGIN:STANDARD
TZOFFSETFROM:-0500
TZOFFSETTO:-0600
TZNAME:CST
DTSTART:20181104T070000
END:STANDARD
BEGIN:DAYLIGHT
TZOFFSETFROM:-0600
TZOFFSETTO:-0500
TZNAME:CDT
DTSTART:20190310T080000
END:DAYLIGHT
BEGIN:STANDARD
TZOFFSETFROM:-0500
TZOFFSETTO:-0600
TZNAME:CST
DTSTART:20191103T070000
END:STANDARD
BEGIN:DAYLIGHT
TZOFFSETFROM:-0600
TZOFFSETTO:-0500
TZNAME:CDT
DTSTART:20200308T080000
END:DAYLIGHT
BEGIN:STANDARD
TZOFFSETFROM:-0500
TZOFFSETTO:-0600
TZNAME:CST
DTSTART:20201101T070000
END:STANDARD
END:VTIMEZONE
BEGIN:VEVENT
DTSTART;TZID=America/Chicago:20191113T120000
DTEND;TZID=America/Chicago:20191113T130000
DTSTAMP:20260422T152947
CREATED:20190514T143758Z
LAST-MODIFIED:20190625T195729Z
UID:8685-1573646400-1573650000@dev-a.hopebeyondmeasure.org
SUMMARY:Partners in Possibilities - Rockford
DESCRIPTION:Join us for a one-hour event and discover how you can help Mosaic further its mission to provide a life of possibilities for people with intellectual disabilities. For more information or to RSVP\, contact Tammy English at 815.387.8390 or tammy.english@mosaicinfo.org.
URL:https://dev-a.hopebeyondmeasure.org/event/discover-the-possibilities-international/
LOCATION:Heartland Community Church – Rockford\, IL\, 1280 S. Alpine Rd.\,\, Rockford\,\, IL\, 61108\, United States
CATEGORIES:Partners in Possibilities
ATTACH;FMTTYPE=image/jpeg:https://dev-a.hopebeyondmeasure.org/wp-content/uploads/2019/05/18-josuhua-firend.jpg
END:VEVENT
END:VCALENDAR