BEGIN:VCALENDAR
VERSION:2.0
PRODID:-//Mosaic - ECPv6.15.20//NONSGML v1.0//EN
CALSCALE:GREGORIAN
METHOD:PUBLISH
X-ORIGINAL-URL:https://dev-a.hopebeyondmeasure.org
X-WR-CALDESC:Events for Mosaic
REFRESH-INTERVAL;VALUE=DURATION:PT1H
X-Robots-Tag:noindex
X-PUBLISHED-TTL:PT1H
BEGIN:VTIMEZONE
TZID:America/Phoenix
BEGIN:STANDARD
TZOFFSETFROM:-0700
TZOFFSETTO:-0700
TZNAME:MST
DTSTART:20190101T000000
END:STANDARD
END:VTIMEZONE
BEGIN:VEVENT
DTSTART;TZID=America/Phoenix:20200312T120000
DTEND;TZID=America/Phoenix:20200312T130000
DTSTAMP:20260422T091718
CREATED:20200106T221223Z
LAST-MODIFIED:20200130T215737Z
UID:19137-1584014400-1584018000@dev-a.hopebeyondmeasure.org
SUMMARY:Partners in Possibilities - Phoenix
DESCRIPTION:Join us for a one-hour event and discover how you can help Mosaic further its mission of relentlessly pursuing opportunities that empower people. For more information or to RSVP\, contact Jeff Malcolm at 574.849.4769 or jeff.malcolm@mosaicinfo.org.
URL:https://dev-a.hopebeyondmeasure.org/event/partners-in-possibilities-phoenix/
LOCATION:Sheraton Crescent Hotel – Crestview Room\, 2620 W. Dunlap Avenue\, Phoenix\, AZ\, 85021\, United States
CATEGORIES:Partners in Possibilities
END:VEVENT
END:VCALENDAR