BEGIN:VCALENDAR
VERSION:2.0
PRODID:-//Mosaic - ECPv6.15.20//NONSGML v1.0//EN
CALSCALE:GREGORIAN
METHOD:PUBLISH
X-WR-CALNAME:Mosaic
X-ORIGINAL-URL:https://dev-a.hopebeyondmeasure.org
X-WR-CALDESC:Events for Mosaic
REFRESH-INTERVAL;VALUE=DURATION:PT1H
X-Robots-Tag:noindex
X-PUBLISHED-TTL:PT1H
BEGIN:VTIMEZONE
TZID:America/Chicago
BEGIN:DAYLIGHT
TZOFFSETFROM:-0600
TZOFFSETTO:-0500
TZNAME:CDT
DTSTART:20190310T080000
END:DAYLIGHT
BEGIN:STANDARD
TZOFFSETFROM:-0500
TZOFFSETTO:-0600
TZNAME:CST
DTSTART:20191103T070000
END:STANDARD
BEGIN:DAYLIGHT
TZOFFSETFROM:-0600
TZOFFSETTO:-0500
TZNAME:CDT
DTSTART:20200308T080000
END:DAYLIGHT
BEGIN:STANDARD
TZOFFSETFROM:-0500
TZOFFSETTO:-0600
TZNAME:CST
DTSTART:20201101T070000
END:STANDARD
BEGIN:DAYLIGHT
TZOFFSETFROM:-0600
TZOFFSETTO:-0500
TZNAME:CDT
DTSTART:20210314T080000
END:DAYLIGHT
BEGIN:STANDARD
TZOFFSETFROM:-0500
TZOFFSETTO:-0600
TZNAME:CST
DTSTART:20211107T070000
END:STANDARD
END:VTIMEZONE
BEGIN:VEVENT
DTSTART;TZID=America/Chicago:20201028T120000
DTEND;TZID=America/Chicago:20201028T130000
DTSTAMP:20260421T212033
CREATED:20200131T164435Z
LAST-MODIFIED:20210609T212330Z
UID:19768-1603886400-1603890000@dev-a.hopebeyondmeasure.org
SUMMARY:Partners in Possibilities – Omaha\, Nebraska
DESCRIPTION:Join us for a one-hour event and discover how you can help Mosaic further its mission of relentlessly pursuing opportunities that empower people. For more information or to RSVP\, contact Laura Holtman at laura.holtman@mosaicinfo.org.
URL:https://dev-a.hopebeyondmeasure.org/event/partners-in-possibilities-omaha-nebraska/
LOCATION:Marriott Regency\, 10220 Regency Circle\, Omaha\, NE\, 68114\, United States
CATEGORIES:Partners in Possibilities
END:VEVENT
END:VCALENDAR